BEGIN:VCALENDAR
VERSION:2.0
PRODID:-//Sabre//Sabre VObject 4.5.8//EN
CALSCALE:GREGORIAN
BEGIN:VEVENT
UID:sabre-vobject-9dc22969-96c1-4fba-8b6e-a8e747dbe906
DTSTAMP:20260423T215321Z
SUMMARY:Valentine's Special
DESCRIPTION:
X-ALT-DESC:FMTTYPE=text/html:<!DOCTYPE HTML PUBLIC "-//W3C//DTD HTML 3.2//E
 N"><HTML></HTML>
CREATED;TZID=America/Chicago:20251210T150557
URL;VALUE=URI:https://leonardwood.armymwr.com/calendar/event
DTSTART;TZID=America/Chicago:20260214T103000
DTEND;TZID=America/Chicago:20260214T200000
SEQUENCE:0
END:VEVENT
END:VCALENDAR
