BEGIN:VCALENDAR
VERSION:2.0
PRODID:-//Sabre//Sabre VObject 4.5.8//EN
CALSCALE:GREGORIAN
BEGIN:VEVENT
UID:sabre-vobject-3ad71674-6b5e-4029-80cb-78f71e7b37bd
DTSTAMP:20260422T133359Z
SUMMARY:Big Bass Tournament
DESCRIPTION:
X-ALT-DESC:FMTTYPE=text/html:<!DOCTYPE HTML PUBLIC "-//W3C//DTD HTML 3.2//E
 N"><HTML></HTML>
CREATED;TZID=America/Chicago:20260226T082630
URL;VALUE=URI:https://leonardwood.armymwr.com/calendar/event
DTSTART;TZID=America/Chicago:20260307T070000
DTEND;TZID=America/Chicago:20260307T150000
SEQUENCE:0
END:VEVENT
BEGIN:VEVENT
UID:sabre-vobject-4b2fd349-80ae-497a-aa42-d75f969a87ac
DTSTAMP:20260422T133359Z
SUMMARY:Big Bass Tournament
DESCRIPTION:
X-ALT-DESC:FMTTYPE=text/html:<!DOCTYPE HTML PUBLIC "-//W3C//DTD HTML 3.2//E
 N"><HTML></HTML>
CREATED;TZID=America/Chicago:20260226T082630
URL;VALUE=URI:https://leonardwood.armymwr.com/calendar/event
DTSTART;TZID=America/Chicago:20260411T070000
DTEND;TZID=America/Chicago:20260411T150000
SEQUENCE:1
END:VEVENT
BEGIN:VEVENT
UID:sabre-vobject-2755717c-95d5-4fb8-a638-cb95d84f1aa2
DTSTAMP:20260422T133359Z
SUMMARY:Big Bass Tournament
DESCRIPTION:
X-ALT-DESC:FMTTYPE=text/html:<!DOCTYPE HTML PUBLIC "-//W3C//DTD HTML 3.2//E
 N"><HTML></HTML>
CREATED;TZID=America/Chicago:20260226T082630
URL;VALUE=URI:https://leonardwood.armymwr.com/calendar/event
DTSTART;TZID=America/Chicago:20260509T070000
DTEND;TZID=America/Chicago:20260509T150000
SEQUENCE:2
END:VEVENT
BEGIN:VEVENT
UID:sabre-vobject-367dcd91-a66c-4adf-a9c7-10a942ce697f
DTSTAMP:20260422T133359Z
SUMMARY:Big Bass Tournament
DESCRIPTION:
X-ALT-DESC:FMTTYPE=text/html:<!DOCTYPE HTML PUBLIC "-//W3C//DTD HTML 3.2//E
 N"><HTML></HTML>
CREATED;TZID=America/Chicago:20260226T082630
URL;VALUE=URI:https://leonardwood.armymwr.com/calendar/event
DTSTART;TZID=America/Chicago:20260605T190000
DTEND;TZID=America/Chicago:20260605T010000
SEQUENCE:3
END:VEVENT
BEGIN:VEVENT
UID:sabre-vobject-30bed783-6414-4ef6-8a99-cfb0b1f5162c
DTSTAMP:20260422T133359Z
SUMMARY:Big Bass Tournament
DESCRIPTION:
X-ALT-DESC:FMTTYPE=text/html:<!DOCTYPE HTML PUBLIC "-//W3C//DTD HTML 3.2//E
 N"><HTML></HTML>
CREATED;TZID=America/Chicago:20260226T082630
URL;VALUE=URI:https://leonardwood.armymwr.com/calendar/event
DTSTART;TZID=America/Chicago:20260710T190000
DTEND;TZID=America/Chicago:20260710T010000
SEQUENCE:4
END:VEVENT
BEGIN:VEVENT
UID:sabre-vobject-d775ff9e-9d5a-4d07-a980-96a66a57ea3f
DTSTAMP:20260422T133359Z
SUMMARY:Big Bass Tournament
DESCRIPTION:
X-ALT-DESC:FMTTYPE=text/html:<!DOCTYPE HTML PUBLIC "-//W3C//DTD HTML 3.2//E
 N"><HTML></HTML>
CREATED;TZID=America/Chicago:20260226T082630
URL;VALUE=URI:https://leonardwood.armymwr.com/calendar/event
DTSTART;TZID=America/Chicago:20260807T190000
DTEND;TZID=America/Chicago:20260807T010000
SEQUENCE:5
END:VEVENT
BEGIN:VEVENT
UID:sabre-vobject-08075ce7-547f-422f-b379-73d702ba157b
DTSTAMP:20260422T133359Z
SUMMARY:Big Bass Tournament
DESCRIPTION:
X-ALT-DESC:FMTTYPE=text/html:<!DOCTYPE HTML PUBLIC "-//W3C//DTD HTML 3.2//E
 N"><HTML></HTML>
CREATED;TZID=America/Chicago:20260226T082630
URL;VALUE=URI:https://leonardwood.armymwr.com/calendar/event
DTSTART;TZID=America/Chicago:20260912T070000
DTEND;TZID=America/Chicago:20260912T150000
SEQUENCE:6
END:VEVENT
BEGIN:VEVENT
UID:sabre-vobject-d375a9e4-55f3-414b-9bc5-48f12b6f337c
DTSTAMP:20260422T133359Z
SUMMARY:Big Bass Tournament
DESCRIPTION:
X-ALT-DESC:FMTTYPE=text/html:<!DOCTYPE HTML PUBLIC "-//W3C//DTD HTML 3.2//E
 N"><HTML></HTML>
CREATED;TZID=America/Chicago:20260226T082630
URL;VALUE=URI:https://leonardwood.armymwr.com/calendar/event
DTSTART;TZID=America/Chicago:20261017T070000
DTEND;TZID=America/Chicago:20261017T150000
SEQUENCE:7
END:VEVENT
END:VCALENDAR
