BEGIN:VCALENDAR
VERSION:2.0
PRODID:-//Sabre//Sabre VObject 4.5.8//EN
CALSCALE:GREGORIAN
BEGIN:VEVENT
UID:sabre-vobject-906f7916-e7ab-458d-b828-aebc5dcd15fe
DTSTAMP:20260424T005218Z
SUMMARY:5 D's of Dodgeball
DESCRIPTION:Dodge\, Duck\, Dip\, Dive\, &amp\; Dodge\n
X-ALT-DESC:FMTTYPE=text/html:<!DOCTYPE HTML PUBLIC "-//W3C//DTD HTML 3.2//E
 N"><HTML><p><em>Dodge\, Duck\, Dip\, Dive\, &amp\; Dodge</em></p>\n</HTML>
CREATED;TZID=America/Chicago:20260109T103342
URL;VALUE=URI:https://leonardwood.armymwr.com/calendar/event
DTSTART;TZID=America/Chicago:20260207T090000
DTEND;TZID=America/Chicago:20260207T100000
SEQUENCE:0
END:VEVENT
END:VCALENDAR
