BEGIN:VCALENDAR
VERSION:2.0
PRODID:-//Sabre//Sabre VObject 4.5.8//EN
CALSCALE:GREGORIAN
BEGIN:VEVENT
UID:sabre-vobject-98956369-9a66-4f0a-ad0f-06706297238a
DTSTAMP:20260423T015601Z
SUMMARY:Play It Forward
DESCRIPTION:Garrison Golf Scramble\n
X-ALT-DESC:FMTTYPE=text/html:<!DOCTYPE HTML PUBLIC "-//W3C//DTD HTML 3.2//E
 N"><HTML><p>Garrison Golf Scramble</p>\n</HTML>
CREATED;TZID=America/Chicago:20260205T132346
URL;VALUE=URI:https://leonardwood.armymwr.com/calendar/event
DTSTART;TZID=America/Chicago:20260328T100000
DTEND;TZID=America/Chicago:20260328T110000
SEQUENCE:0
END:VEVENT
END:VCALENDAR
