BEGIN:VCALENDAR
VERSION:2.0
PRODID:-//Sabre//Sabre VObject 4.5.8//EN
CALSCALE:GREGORIAN
BEGIN:VEVENT
UID:sabre-vobject-53681eb7-1b8e-4aff-b8ca-88b7ea91c0f9
DTSTAMP:20260423T041248Z
SUMMARY:Parents vs. Youth Volleyball
DESCRIPTION:Who will win?\n
X-ALT-DESC:FMTTYPE=text/html:<!DOCTYPE HTML PUBLIC "-//W3C//DTD HTML 3.2//E
 N"><HTML><p>Who will win?</p>\n</HTML>
CREATED;TZID=America/Chicago:20260218T091558
URL;VALUE=URI:https://leonardwood.armymwr.com/calendar/event
DTSTART;TZID=America/Chicago:20260501T183000
DTEND;TZID=America/Chicago:20260501T193000
SEQUENCE:0
END:VEVENT
END:VCALENDAR
