BEGIN:VCALENDAR
VERSION:2.0
PRODID:-//Sabre//Sabre VObject 4.5.8//EN
CALSCALE:GREGORIAN
BEGIN:VEVENT
UID:sabre-vobject-cc4f9624-4ce1-4a52-9a14-cbafcbbb16ad
DTSTAMP:20260422T133401Z
SUMMARY:Strong BANDS Pickleball Tournament
DESCRIPTION:
X-ALT-DESC:FMTTYPE=text/html:<!DOCTYPE HTML PUBLIC "-//W3C//DTD HTML 3.2//E
 N"><HTML></HTML>
CREATED;TZID=America/Chicago:20260311T103054
URL;VALUE=URI:https://leonardwood.armymwr.com/calendar/event
DTSTART;TZID=America/Chicago:20260502T090000
DTEND;TZID=America/Chicago:20260502T100000
SEQUENCE:0
END:VEVENT
END:VCALENDAR
