BEGIN:VCALENDAR
VERSION:2.0
PRODID:-//Sabre//Sabre VObject 4.5.8//EN
CALSCALE:GREGORIAN
BEGIN:VEVENT
UID:sabre-vobject-043469bb-8270-4557-96f3-c7e6c0a41d9c
DTSTAMP:20260421T081942Z
SUMMARY:Tour of Dinners
DESCRIPTION:Bold Korean Cuisine\n
X-ALT-DESC:FMTTYPE=text/html:<!DOCTYPE HTML PUBLIC "-//W3C//DTD HTML 3.2//E
 N"><HTML><p><em>Bold Korean Cuisine</em></p>\n</HTML>
CREATED;TZID=America/Chicago:20260407T100639
URL;VALUE=URI:https://leonardwood.armymwr.com/calendar/event
DTSTART;TZID=America/Chicago:20260427T180000
DTEND;TZID=America/Chicago:20260427T190000
SEQUENCE:0
END:VEVENT
END:VCALENDAR
