BEGIN:VCALENDAR
VERSION:2.0
PRODID:-//Sabre//Sabre VObject 4.5.8//EN
CALSCALE:GREGORIAN
BEGIN:VEVENT
UID:sabre-vobject-0d5761e8-8d3f-42c7-8b44-b82ebf05a0d8
DTSTAMP:20260423T160259Z
SUMMARY:Tour of Dinners
DESCRIPTION:Authentic German Classics\n
X-ALT-DESC:FMTTYPE=text/html:<!DOCTYPE HTML PUBLIC "-//W3C//DTD HTML 3.2//E
 N"><HTML><p><i>Authentic German Classics</i></p>\n</HTML>
CREATED;TZID=America/Chicago:20260408T144213
URL;VALUE=URI:https://leonardwood.armymwr.com/calendar/event
DTSTART;TZID=America/Chicago:20260615T180000
DTEND;TZID=America/Chicago:20260615T190000
SEQUENCE:0
END:VEVENT
END:VCALENDAR
