BEGIN:VCALENDAR
VERSION:2.0
PRODID:-//Sabre//Sabre VObject 4.5.8//EN
CALSCALE:GREGORIAN
BEGIN:VEVENT
UID:sabre-vobject-9d7f037c-ee55-423e-9e75-d1bec7f6cf4a
DTSTAMP:20260423T030027Z
SUMMARY:Oil Change & Tire Rotation Basic Intro
DESCRIPTION:
X-ALT-DESC:FMTTYPE=text/html:<!DOCTYPE HTML PUBLIC "-//W3C//DTD HTML 3.2//E
 N"><HTML></HTML>
CREATED;TZID=America/Chicago:20260303T095122
URL;VALUE=URI:https://leonardwood.armymwr.com/calendar/event
DTSTART;TZID=America/Chicago:20260417T173000
DTEND;TZID=America/Chicago:20260417T190000
SEQUENCE:0
END:VEVENT
BEGIN:VEVENT
UID:sabre-vobject-9afdebc6-d671-4f37-b4e2-1f383dd089d9
DTSTAMP:20260423T030027Z
SUMMARY:Oil Change & Tire Rotation Basic Intro
DESCRIPTION:
X-ALT-DESC:FMTTYPE=text/html:<!DOCTYPE HTML PUBLIC "-//W3C//DTD HTML 3.2//E
 N"><HTML></HTML>
CREATED;TZID=America/Chicago:20260303T095122
URL;VALUE=URI:https://leonardwood.armymwr.com/calendar/event
DTSTART;TZID=America/Chicago:20260515T173000
DTEND;TZID=America/Chicago:20260515T190000
SEQUENCE:1
END:VEVENT
BEGIN:VEVENT
UID:sabre-vobject-dbdead33-0e29-4f2a-bf73-b392e3d821e9
DTSTAMP:20260423T030027Z
SUMMARY:Oil Change & Tire Rotation Basic Intro
DESCRIPTION:
X-ALT-DESC:FMTTYPE=text/html:<!DOCTYPE HTML PUBLIC "-//W3C//DTD HTML 3.2//E
 N"><HTML></HTML>
CREATED;TZID=America/Chicago:20260303T095122
URL;VALUE=URI:https://leonardwood.armymwr.com/calendar/event
DTSTART;TZID=America/Chicago:20260612T173000
DTEND;TZID=America/Chicago:20260612T190000
SEQUENCE:2
END:VEVENT
END:VCALENDAR
