BEGIN:VCALENDAR
VERSION:2.0
PRODID:-//Sabre//Sabre VObject 4.5.8//EN
CALSCALE:GREGORIAN
BEGIN:VEVENT
UID:sabre-vobject-36a8fa41-c4d1-4038-b3fa-726218629359
DTSTAMP:20260422T205151Z
SUMMARY:Discover Scuba
DESCRIPTION:
X-ALT-DESC:FMTTYPE=text/html:<!DOCTYPE HTML PUBLIC "-//W3C//DTD HTML 3.2//E
 N"><HTML></HTML>
CREATED;TZID=America/Chicago:20260324T073946
URL;VALUE=URI:https://leonardwood.armymwr.com/calendar/event
DTSTART;TZID=America/Chicago:20260409T180000
DTEND;TZID=America/Chicago:20260409T190000
SEQUENCE:0
END:VEVENT
BEGIN:VEVENT
UID:sabre-vobject-5a47a043-d414-42cf-b44e-662fff0f1147
DTSTAMP:20260422T205151Z
SUMMARY:Discover Scuba
DESCRIPTION:
X-ALT-DESC:FMTTYPE=text/html:<!DOCTYPE HTML PUBLIC "-//W3C//DTD HTML 3.2//E
 N"><HTML></HTML>
CREATED;TZID=America/Chicago:20260324T073946
URL;VALUE=URI:https://leonardwood.armymwr.com/calendar/event
DTSTART;TZID=America/Chicago:20260409T190000
DTEND;TZID=America/Chicago:20260409T200000
SEQUENCE:1
END:VEVENT
BEGIN:VEVENT
UID:sabre-vobject-a3d0c31f-d610-4948-9247-350dab8fb340
DTSTAMP:20260422T205151Z
SUMMARY:Discover Scuba
DESCRIPTION:
X-ALT-DESC:FMTTYPE=text/html:<!DOCTYPE HTML PUBLIC "-//W3C//DTD HTML 3.2//E
 N"><HTML></HTML>
CREATED;TZID=America/Chicago:20260324T073946
URL;VALUE=URI:https://leonardwood.armymwr.com/calendar/event
DTSTART;TZID=America/Chicago:20260514T180000
DTEND;TZID=America/Chicago:20260514T190000
SEQUENCE:2
END:VEVENT
BEGIN:VEVENT
UID:sabre-vobject-e33e37b4-5337-49ba-bff3-c0118e721652
DTSTAMP:20260422T205151Z
SUMMARY:Discover Scuba
DESCRIPTION:
X-ALT-DESC:FMTTYPE=text/html:<!DOCTYPE HTML PUBLIC "-//W3C//DTD HTML 3.2//E
 N"><HTML></HTML>
CREATED;TZID=America/Chicago:20260324T073946
URL;VALUE=URI:https://leonardwood.armymwr.com/calendar/event
DTSTART;TZID=America/Chicago:20260514T190000
DTEND;TZID=America/Chicago:20260514T200000
SEQUENCE:3
END:VEVENT
BEGIN:VEVENT
UID:sabre-vobject-b8e785ce-844b-4daf-8206-6848493aac60
DTSTAMP:20260422T205151Z
SUMMARY:Discover Scuba
DESCRIPTION:
X-ALT-DESC:FMTTYPE=text/html:<!DOCTYPE HTML PUBLIC "-//W3C//DTD HTML 3.2//E
 N"><HTML></HTML>
CREATED;TZID=America/Chicago:20260324T073946
URL;VALUE=URI:https://leonardwood.armymwr.com/calendar/event
DTSTART;TZID=America/Chicago:20260611T180000
DTEND;TZID=America/Chicago:20260611T190000
SEQUENCE:4
END:VEVENT
BEGIN:VEVENT
UID:sabre-vobject-11c2d4d0-897d-400a-8376-a40a45ebcddd
DTSTAMP:20260422T205151Z
SUMMARY:Discover Scuba
DESCRIPTION:
X-ALT-DESC:FMTTYPE=text/html:<!DOCTYPE HTML PUBLIC "-//W3C//DTD HTML 3.2//E
 N"><HTML></HTML>
CREATED;TZID=America/Chicago:20260324T073946
URL;VALUE=URI:https://leonardwood.armymwr.com/calendar/event
DTSTART;TZID=America/Chicago:20260611T190000
DTEND;TZID=America/Chicago:20260611T200000
SEQUENCE:5
END:VEVENT
END:VCALENDAR
