BEGIN:VCALENDAR
VERSION:2.0
PRODID:-//Sabre//Sabre VObject 4.5.8//EN
CALSCALE:GREGORIAN
BEGIN:VEVENT
UID:sabre-vobject-4d3ecb91-ac8a-4c9d-a68f-f2e2c6185561
DTSTAMP:20260423T150513Z
SUMMARY:24/7 Dad
DESCRIPTION:
X-ALT-DESC:FMTTYPE=text/html:<!DOCTYPE HTML PUBLIC "-//W3C//DTD HTML 3.2//E
 N"><HTML></HTML>
CREATED;TZID=America/Chicago:20171025T153105
URL;VALUE=URI:https://leonardwood.armymwr.com/calendar/event
DTSTART;TZID=America/Chicago:20180414T090000
DTEND;TZID=America/Chicago:20180414T150000
SEQUENCE:0
END:VEVENT
END:VCALENDAR
