BEGIN:VCALENDAR
VERSION:2.0
PRODID:-//Sabre//Sabre VObject 4.5.8//EN
CALSCALE:GREGORIAN
BEGIN:VEVENT
UID:sabre-vobject-50524b93-723d-4ac0-b9b7-63b0d46bdb0c
DTSTAMP:20260424T210443Z
SUMMARY:Lifeguard Class
DESCRIPTION:
X-ALT-DESC:FMTTYPE=text/html:<!DOCTYPE HTML PUBLIC "-//W3C//DTD HTML 3.2//E
 N"><HTML></HTML>
CREATED;TZID=America/Chicago:20171215T081503
URL;VALUE=URI:https://leonardwood.armymwr.com/calendar/event
DTSTART;TZID=America/Chicago:20180202T163000
DTEND;TZID=America/Chicago:20180202T183000
SEQUENCE:0
END:VEVENT
BEGIN:VEVENT
UID:sabre-vobject-96031f88-1d25-444f-b1af-be010ad6ccfe
DTSTAMP:20260424T210443Z
SUMMARY:Lifeguard Class
DESCRIPTION:
X-ALT-DESC:FMTTYPE=text/html:<!DOCTYPE HTML PUBLIC "-//W3C//DTD HTML 3.2//E
 N"><HTML></HTML>
CREATED;TZID=America/Chicago:20171215T081503
URL;VALUE=URI:https://leonardwood.armymwr.com/calendar/event
DTSTART;TZID=America/Chicago:20180203T083000
DTEND;TZID=America/Chicago:20180203T163000
SEQUENCE:1
END:VEVENT
BEGIN:VEVENT
UID:sabre-vobject-611f6334-a466-4a15-9251-73b987ea3f6b
DTSTAMP:20260424T210443Z
SUMMARY:Lifeguard Class
DESCRIPTION:
X-ALT-DESC:FMTTYPE=text/html:<!DOCTYPE HTML PUBLIC "-//W3C//DTD HTML 3.2//E
 N"><HTML></HTML>
CREATED;TZID=America/Chicago:20171215T081503
URL;VALUE=URI:https://leonardwood.armymwr.com/calendar/event
DTSTART;TZID=America/Chicago:20180204T083000
DTEND;TZID=America/Chicago:20180204T163000
SEQUENCE:2
END:VEVENT
BEGIN:VEVENT
UID:sabre-vobject-04f43226-8b5b-4459-8a32-43123f3e6299
DTSTAMP:20260424T210443Z
SUMMARY:Lifeguard Class
DESCRIPTION:
X-ALT-DESC:FMTTYPE=text/html:<!DOCTYPE HTML PUBLIC "-//W3C//DTD HTML 3.2//E
 N"><HTML></HTML>
CREATED;TZID=America/Chicago:20171215T081503
URL;VALUE=URI:https://leonardwood.armymwr.com/calendar/event
DTSTART;TZID=America/Chicago:20180210T083000
DTEND;TZID=America/Chicago:20180210T163000
SEQUENCE:3
END:VEVENT
BEGIN:VEVENT
UID:sabre-vobject-98b6d0a3-4eda-4bb3-9a32-3cf8400a7078
DTSTAMP:20260424T210443Z
SUMMARY:Lifeguard Class
DESCRIPTION:
X-ALT-DESC:FMTTYPE=text/html:<!DOCTYPE HTML PUBLIC "-//W3C//DTD HTML 3.2//E
 N"><HTML></HTML>
CREATED;TZID=America/Chicago:20171215T081503
URL;VALUE=URI:https://leonardwood.armymwr.com/calendar/event
DTSTART;TZID=America/Chicago:20180211T083000
DTEND;TZID=America/Chicago:20180211T163000
SEQUENCE:4
END:VEVENT
END:VCALENDAR
