BEGIN:VCALENDAR
VERSION:2.0
PRODID:-//Sabre//Sabre VObject 4.5.8//EN
CALSCALE:GREGORIAN
BEGIN:VEVENT
UID:sabre-vobject-e0feb840-2a82-4bd7-810f-4e5428180994
DTSTAMP:20260426T013903Z
SUMMARY:Les Mills Body Pump
DESCRIPTION:Open to all fitness levels.\n
X-ALT-DESC:FMTTYPE=text/html:<!DOCTYPE HTML PUBLIC "-//W3C//DTD HTML 3.2//E
 N"><HTML><p>Open to all fitness levels.</p>\n</HTML>
CREATED;TZID=America/Chicago:20171220T083955
URL;VALUE=URI:https://leonardwood.armymwr.com/calendar/event
DTSTART;TZID=America/Chicago:20180101T093000
DTEND;TZID=America/Chicago:20180101T103000
SEQUENCE:0
END:VEVENT
BEGIN:VEVENT
UID:sabre-vobject-3b75ff01-ef36-4fea-adb2-e2f54be03770
DTSTAMP:20260426T013903Z
SUMMARY:Les Mills Body Pump
DESCRIPTION:Open to all fitness levels.\n
X-ALT-DESC:FMTTYPE=text/html:<!DOCTYPE HTML PUBLIC "-//W3C//DTD HTML 3.2//E
 N"><HTML><p>Open to all fitness levels.</p>\n</HTML>
CREATED;TZID=America/Chicago:20171220T083955
URL;VALUE=URI:https://leonardwood.armymwr.com/calendar/event
DTSTART;TZID=America/Chicago:20180102T163000
DTEND;TZID=America/Chicago:20180102T173000
SEQUENCE:1
END:VEVENT
BEGIN:VEVENT
UID:sabre-vobject-21068790-408f-485c-b47e-5f0fd0404dc4
DTSTAMP:20260426T013903Z
SUMMARY:Les Mills Body Pump
DESCRIPTION:Open to all fitness levels.\n
X-ALT-DESC:FMTTYPE=text/html:<!DOCTYPE HTML PUBLIC "-//W3C//DTD HTML 3.2//E
 N"><HTML><p>Open to all fitness levels.</p>\n</HTML>
CREATED;TZID=America/Chicago:20171220T083955
URL;VALUE=URI:https://leonardwood.armymwr.com/calendar/event
DTSTART;TZID=America/Chicago:20180103T093000
DTEND;TZID=America/Chicago:20180103T103000
SEQUENCE:2
END:VEVENT
BEGIN:VEVENT
UID:sabre-vobject-de87f44b-e00c-44fe-923d-5e691a97267c
DTSTAMP:20260426T013903Z
SUMMARY:Les Mills Body Pump
DESCRIPTION:Open to all fitness levels.\n
X-ALT-DESC:FMTTYPE=text/html:<!DOCTYPE HTML PUBLIC "-//W3C//DTD HTML 3.2//E
 N"><HTML><p>Open to all fitness levels.</p>\n</HTML>
CREATED;TZID=America/Chicago:20171220T083955
URL;VALUE=URI:https://leonardwood.armymwr.com/calendar/event
DTSTART;TZID=America/Chicago:20180104T163000
DTEND;TZID=America/Chicago:20180104T173000
SEQUENCE:3
END:VEVENT
BEGIN:VEVENT
UID:sabre-vobject-69a1e0ec-a6b2-429f-8b94-e40449641737
DTSTAMP:20260426T013903Z
SUMMARY:Les Mills Body Pump
DESCRIPTION:Open to all fitness levels.\n
X-ALT-DESC:FMTTYPE=text/html:<!DOCTYPE HTML PUBLIC "-//W3C//DTD HTML 3.2//E
 N"><HTML><p>Open to all fitness levels.</p>\n</HTML>
CREATED;TZID=America/Chicago:20171220T083955
URL;VALUE=URI:https://leonardwood.armymwr.com/calendar/event
DTSTART;TZID=America/Chicago:20180105T093000
DTEND;TZID=America/Chicago:20180105T103000
SEQUENCE:4
END:VEVENT
BEGIN:VEVENT
UID:sabre-vobject-2ca1c6a9-f5dd-4825-91a8-932da87a2055
DTSTAMP:20260426T013903Z
SUMMARY:Les Mills Body Pump
DESCRIPTION:Open to all fitness levels.\n
X-ALT-DESC:FMTTYPE=text/html:<!DOCTYPE HTML PUBLIC "-//W3C//DTD HTML 3.2//E
 N"><HTML><p>Open to all fitness levels.</p>\n</HTML>
CREATED;TZID=America/Chicago:20171220T083955
URL;VALUE=URI:https://leonardwood.armymwr.com/calendar/event
DTSTART;TZID=America/Chicago:20180107T100000
DTEND;TZID=America/Chicago:20180107T110000
SEQUENCE:5
END:VEVENT
END:VCALENDAR
