BEGIN:VCALENDAR
VERSION:2.0
PRODID:-//Sabre//Sabre VObject 4.5.8//EN
CALSCALE:GREGORIAN
BEGIN:VEVENT
UID:sabre-vobject-7f9c1c1f-35a4-472e-868b-2f90d89357a6
DTSTAMP:20260425T124830Z
SUMMARY:Zumba
DESCRIPTION:Open to all fitness levels.\n
X-ALT-DESC:FMTTYPE=text/html:<!DOCTYPE HTML PUBLIC "-//W3C//DTD HTML 3.2//E
 N"><HTML><p>Open to all fitness levels.</p>\n</HTML>
CREATED;TZID=America/Chicago:20171220T084049
URL;VALUE=URI:https://leonardwood.armymwr.com/calendar/event
DTSTART;TZID=America/Chicago:20180101T104500
DTEND;TZID=America/Chicago:20180101T114500
SEQUENCE:0
END:VEVENT
BEGIN:VEVENT
UID:sabre-vobject-a6e8af65-bf55-462a-abc4-93a924ab4305
DTSTAMP:20260425T124830Z
SUMMARY:Zumba
DESCRIPTION:Open to all fitness levels.\n
X-ALT-DESC:FMTTYPE=text/html:<!DOCTYPE HTML PUBLIC "-//W3C//DTD HTML 3.2//E
 N"><HTML><p>Open to all fitness levels.</p>\n</HTML>
CREATED;TZID=America/Chicago:20171220T084049
URL;VALUE=URI:https://leonardwood.armymwr.com/calendar/event
DTSTART;TZID=America/Chicago:20180101T180000
DTEND;TZID=America/Chicago:20180101T190000
SEQUENCE:1
END:VEVENT
BEGIN:VEVENT
UID:sabre-vobject-e5e4e4ae-1451-4d11-b76b-67cabd734216
DTSTAMP:20260425T124830Z
SUMMARY:Zumba
DESCRIPTION:Open to all fitness levels.\n
X-ALT-DESC:FMTTYPE=text/html:<!DOCTYPE HTML PUBLIC "-//W3C//DTD HTML 3.2//E
 N"><HTML><p>Open to all fitness levels.</p>\n</HTML>
CREATED;TZID=America/Chicago:20171220T084049
URL;VALUE=URI:https://leonardwood.armymwr.com/calendar/event
DTSTART;TZID=America/Chicago:20180103T114500
DTEND;TZID=America/Chicago:20180103T124500
SEQUENCE:2
END:VEVENT
BEGIN:VEVENT
UID:sabre-vobject-beeee7ea-1fd7-4f27-bf6e-9b2aaa36075e
DTSTAMP:20260425T124830Z
SUMMARY:Zumba
DESCRIPTION:Open to all fitness levels.\n
X-ALT-DESC:FMTTYPE=text/html:<!DOCTYPE HTML PUBLIC "-//W3C//DTD HTML 3.2//E
 N"><HTML><p>Open to all fitness levels.</p>\n</HTML>
CREATED;TZID=America/Chicago:20171220T084049
URL;VALUE=URI:https://leonardwood.armymwr.com/calendar/event
DTSTART;TZID=America/Chicago:20180105T114500
DTEND;TZID=America/Chicago:20180105T124500
SEQUENCE:3
END:VEVENT
BEGIN:VEVENT
UID:sabre-vobject-27927e04-7a3b-4e1c-b8e9-67327d72f489
DTSTAMP:20260425T124830Z
SUMMARY:Zumba
DESCRIPTION:Open to all fitness levels.\n
X-ALT-DESC:FMTTYPE=text/html:<!DOCTYPE HTML PUBLIC "-//W3C//DTD HTML 3.2//E
 N"><HTML><p>Open to all fitness levels.</p>\n</HTML>
CREATED;TZID=America/Chicago:20171220T084049
URL;VALUE=URI:https://leonardwood.armymwr.com/calendar/event
DTSTART;TZID=America/Chicago:20180106T084500
DTEND;TZID=America/Chicago:20180106T094500
SEQUENCE:4
END:VEVENT
BEGIN:VEVENT
UID:sabre-vobject-92c1dd19-6fbc-4a96-87da-bfed913385ac
DTSTAMP:20260425T124830Z
SUMMARY:Zumba
DESCRIPTION:Open to all fitness levels.\n
X-ALT-DESC:FMTTYPE=text/html:<!DOCTYPE HTML PUBLIC "-//W3C//DTD HTML 3.2//E
 N"><HTML><p>Open to all fitness levels.</p>\n</HTML>
CREATED;TZID=America/Chicago:20171220T084049
URL;VALUE=URI:https://leonardwood.armymwr.com/calendar/event
DTSTART;TZID=America/Chicago:20180107T133000
DTEND;TZID=America/Chicago:20180107T143000
SEQUENCE:5
END:VEVENT
END:VCALENDAR
