BEGIN:VCALENDAR
VERSION:2.0
PRODID:-//Sabre//Sabre VObject 4.5.8//EN
CALSCALE:GREGORIAN
BEGIN:VEVENT
UID:sabre-vobject-3b33efd0-aea4-4dc6-a199-740e131e8ffc
DTSTAMP:20260425T151515Z
SUMMARY:Vinyasa Flow Yoga
DESCRIPTION:Open to all fitness levels.\n
X-ALT-DESC:FMTTYPE=text/html:<!DOCTYPE HTML PUBLIC "-//W3C//DTD HTML 3.2//E
 N"><HTML><p>Open to all fitness levels.</p>\n</HTML>
CREATED;TZID=America/Chicago:20171220T084011
URL;VALUE=URI:https://leonardwood.armymwr.com/calendar/event
DTSTART;TZID=America/Chicago:20180103T180000
DTEND;TZID=America/Chicago:20180103T190000
SEQUENCE:0
END:VEVENT
BEGIN:VEVENT
UID:sabre-vobject-43250ea8-2ecb-4a4f-a940-e605506ee119
DTSTAMP:20260425T151515Z
SUMMARY:Vinyasa Flow Yoga
DESCRIPTION:Open to all fitness levels.\n
X-ALT-DESC:FMTTYPE=text/html:<!DOCTYPE HTML PUBLIC "-//W3C//DTD HTML 3.2//E
 N"><HTML><p>Open to all fitness levels.</p>\n</HTML>
CREATED;TZID=America/Chicago:20171220T084011
URL;VALUE=URI:https://leonardwood.armymwr.com/calendar/event
DTSTART;TZID=America/Chicago:20180107T113000
DTEND;TZID=America/Chicago:20180107T123000
SEQUENCE:1
END:VEVENT
END:VCALENDAR
