BEGIN:VCALENDAR
VERSION:2.0
PRODID:-//Sabre//Sabre VObject 4.5.8//EN
CALSCALE:GREGORIAN
BEGIN:VEVENT
UID:sabre-vobject-dfbc8af3-c57c-4eea-847c-4775f456270d
DTSTAMP:20260425T212138Z
SUMMARY:Aqua Zumba
DESCRIPTION:Open to all fitness levels.\n
X-ALT-DESC:FMTTYPE=text/html:<!DOCTYPE HTML PUBLIC "-//W3C//DTD HTML 3.2//E
 N"><HTML><p>Open to all fitness levels.</p>\n</HTML>
CREATED;TZID=America/Chicago:20171220T084257
URL;VALUE=URI:https://leonardwood.armymwr.com/calendar/event
DTSTART;TZID=America/Chicago:20180103T181500
DTEND;TZID=America/Chicago:20180103T191500
SEQUENCE:0
END:VEVENT
BEGIN:VEVENT
UID:sabre-vobject-f4ba6e1a-c0ad-4137-883f-edcce683ecd1
DTSTAMP:20260425T212138Z
SUMMARY:Aqua Zumba
DESCRIPTION:Open to all fitness levels.\n
X-ALT-DESC:FMTTYPE=text/html:<!DOCTYPE HTML PUBLIC "-//W3C//DTD HTML 3.2//E
 N"><HTML><p>Open to all fitness levels.</p>\n</HTML>
CREATED;TZID=America/Chicago:20171220T084257
URL;VALUE=URI:https://leonardwood.armymwr.com/calendar/event
DTSTART;TZID=America/Chicago:20180106T101500
DTEND;TZID=America/Chicago:20180106T111500
SEQUENCE:1
END:VEVENT
END:VCALENDAR
