BEGIN:VCALENDAR
VERSION:2.0
PRODID:-//Sabre//Sabre VObject 4.5.8//EN
CALSCALE:GREGORIAN
BEGIN:VEVENT
UID:sabre-vobject-02566835-4a5e-457c-aef5-9725d787b4cf
DTSTAMP:20260424T210038Z
SUMMARY:LIFT
DESCRIPTION:Open to all fitness levels.\n
X-ALT-DESC:FMTTYPE=text/html:<!DOCTYPE HTML PUBLIC "-//W3C//DTD HTML 3.2//E
 N"><HTML><p>Open to all fitness levels.</p>\n</HTML>
CREATED;TZID=America/Chicago:20180119T105256
URL;VALUE=URI:https://leonardwood.armymwr.com/calendar/event
DTSTART;TZID=America/Chicago:20180205T090000
DTEND;TZID=America/Chicago:20180205T100000
SEQUENCE:0
END:VEVENT
BEGIN:VEVENT
UID:sabre-vobject-b301067f-47c6-47f9-8874-7ada51baf6bc
DTSTAMP:20260424T210038Z
SUMMARY:LIFT
DESCRIPTION:Open to all fitness levels.\n
X-ALT-DESC:FMTTYPE=text/html:<!DOCTYPE HTML PUBLIC "-//W3C//DTD HTML 3.2//E
 N"><HTML><p>Open to all fitness levels.</p>\n</HTML>
CREATED;TZID=America/Chicago:20180119T105256
URL;VALUE=URI:https://leonardwood.armymwr.com/calendar/event
DTSTART;TZID=America/Chicago:20180207T090000
DTEND;TZID=America/Chicago:20180207T100000
SEQUENCE:1
END:VEVENT
BEGIN:VEVENT
UID:sabre-vobject-6a293e9a-5a00-41b8-b7f1-c1e0c9835e55
DTSTAMP:20260424T210038Z
SUMMARY:LIFT
DESCRIPTION:Open to all fitness levels.\n
X-ALT-DESC:FMTTYPE=text/html:<!DOCTYPE HTML PUBLIC "-//W3C//DTD HTML 3.2//E
 N"><HTML><p>Open to all fitness levels.</p>\n</HTML>
CREATED;TZID=America/Chicago:20180119T105256
URL;VALUE=URI:https://leonardwood.armymwr.com/calendar/event
DTSTART;TZID=America/Chicago:20180202T090000
DTEND;TZID=America/Chicago:20180202T100000
SEQUENCE:2
END:VEVENT
END:VCALENDAR
