BEGIN:VCALENDAR
VERSION:2.0
PRODID:-//Sabre//Sabre VObject 4.5.8//EN
CALSCALE:GREGORIAN
BEGIN:VEVENT
UID:sabre-vobject-46881a76-d0b8-46f1-8664-98013c6cc4a7
DTSTAMP:20260425T220054Z
SUMMARY:Job Fair
DESCRIPTION:Open to all job seekers!\n
X-ALT-DESC:FMTTYPE=text/html:<!DOCTYPE HTML PUBLIC "-//W3C//DTD HTML 3.2//E
 N"><HTML><p>Open to all job seekers!</p>\n</HTML>
CREATED;TZID=America/Chicago:20180122T093052
URL;VALUE=URI:https://leonardwood.armymwr.com/calendar/event
DTSTART;TZID=America/Chicago:20180203T100000
DTEND;TZID=America/Chicago:20180203T130000
SEQUENCE:0
END:VEVENT
END:VCALENDAR
