BEGIN:VCALENDAR
VERSION:2.0
PRODID:-//Sabre//Sabre VObject 4.5.8//EN
CALSCALE:GREGORIAN
BEGIN:VEVENT
UID:sabre-vobject-547a0b51-3785-45be-bb86-12a623e27e85
DTSTAMP:20260424T145222Z
SUMMARY:Spin Circuit
DESCRIPTION:Open to all fitness levels\n
X-ALT-DESC:FMTTYPE=text/html:<!DOCTYPE HTML PUBLIC "-//W3C//DTD HTML 3.2//E
 N"><HTML><p>Open to all fitness levels</p>\n</HTML>
CREATED;TZID=America/Chicago:20180122T080943
URL;VALUE=URI:https://leonardwood.armymwr.com/calendar/event
DTSTART;TZID=America/Chicago:20180202T181500
DTEND;TZID=America/Chicago:20180202T191500
SEQUENCE:0
END:VEVENT
END:VCALENDAR
