BEGIN:VCALENDAR
VERSION:2.0
PRODID:-//Sabre//Sabre VObject 4.5.8//EN
CALSCALE:GREGORIAN
BEGIN:VEVENT
UID:sabre-vobject-0a7189e9-467a-4737-8ab5-aefddf1cc1c0
DTSTAMP:20260425T115846Z
SUMMARY:3 vs 3 Tournament
DESCRIPTION:Open to active duty military\, dependents 18 &amp\; older and o
 ut of highschool\, retirees\, and DoD civilians.\n
X-ALT-DESC:FMTTYPE=text/html:<!DOCTYPE HTML PUBLIC "-//W3C//DTD HTML 3.2//E
 N"><HTML><p>Open to active duty military\, dependents 18 &amp\; older and 
 out of highschool\, retirees\, and DoD civilians.</p>\n</HTML>
CREATED;TZID=America/Chicago:20180126T074153
URL;VALUE=URI:https://leonardwood.armymwr.com/calendar/event
DTSTART;TZID=America/Chicago:20180210T090000
DTEND;TZID=America/Chicago:20180210T100000
SEQUENCE:0
END:VEVENT
END:VCALENDAR
