BEGIN:VCALENDAR
VERSION:2.0
PRODID:-//Sabre//Sabre VObject 4.5.8//EN
CALSCALE:GREGORIAN
BEGIN:VEVENT
UID:sabre-vobject-ce9682e0-aef6-4db7-9d2f-9261e20907e3
DTSTAMP:20260424T173314Z
SUMMARY:Zumba
DESCRIPTION:Open to all fitness levels.\n
X-ALT-DESC:FMTTYPE=text/html:<!DOCTYPE HTML PUBLIC "-//W3C//DTD HTML 3.2//E
 N"><HTML><p>Open to all fitness levels.</p>\n</HTML>
CREATED;TZID=America/Chicago:20180228T104529
URL;VALUE=URI:https://leonardwood.armymwr.com/calendar/event
DTSTART;TZID=America/Chicago:20180305T104500
DTEND;TZID=America/Chicago:20180305T114500
SEQUENCE:0
END:VEVENT
BEGIN:VEVENT
UID:sabre-vobject-6ab91cbf-ae0a-42e8-9a95-f165e4a503b3
DTSTAMP:20260424T173314Z
SUMMARY:Zumba
DESCRIPTION:Open to all fitness levels.\n
X-ALT-DESC:FMTTYPE=text/html:<!DOCTYPE HTML PUBLIC "-//W3C//DTD HTML 3.2//E
 N"><HTML><p>Open to all fitness levels.</p>\n</HTML>
CREATED;TZID=America/Chicago:20180228T104529
URL;VALUE=URI:https://leonardwood.armymwr.com/calendar/event
DTSTART;TZID=America/Chicago:20180305T180000
DTEND;TZID=America/Chicago:20180305T190000
SEQUENCE:1
END:VEVENT
BEGIN:VEVENT
UID:sabre-vobject-c5b778d1-1c7e-4ce7-a2e2-13d4dea4aca3
DTSTAMP:20260424T173314Z
SUMMARY:Zumba
DESCRIPTION:Open to all fitness levels.\n
X-ALT-DESC:FMTTYPE=text/html:<!DOCTYPE HTML PUBLIC "-//W3C//DTD HTML 3.2//E
 N"><HTML><p>Open to all fitness levels.</p>\n</HTML>
CREATED;TZID=America/Chicago:20180228T104529
URL;VALUE=URI:https://leonardwood.armymwr.com/calendar/event
DTSTART;TZID=America/Chicago:20180307T114500
DTEND;TZID=America/Chicago:20180307T124500
SEQUENCE:2
END:VEVENT
BEGIN:VEVENT
UID:sabre-vobject-2170a3e4-66f5-457f-aa21-3d75e351a119
DTSTAMP:20260424T173314Z
SUMMARY:Zumba
DESCRIPTION:Open to all fitness levels.\n
X-ALT-DESC:FMTTYPE=text/html:<!DOCTYPE HTML PUBLIC "-//W3C//DTD HTML 3.2//E
 N"><HTML><p>Open to all fitness levels.</p>\n</HTML>
CREATED;TZID=America/Chicago:20180228T104529
URL;VALUE=URI:https://leonardwood.armymwr.com/calendar/event
DTSTART;TZID=America/Chicago:20180302T120000
DTEND;TZID=America/Chicago:20180302T130000
SEQUENCE:3
END:VEVENT
BEGIN:VEVENT
UID:sabre-vobject-c55fba41-fa54-4c7c-989c-fdb1d3b47721
DTSTAMP:20260424T173314Z
SUMMARY:Zumba
DESCRIPTION:Open to all fitness levels.\n
X-ALT-DESC:FMTTYPE=text/html:<!DOCTYPE HTML PUBLIC "-//W3C//DTD HTML 3.2//E
 N"><HTML><p>Open to all fitness levels.</p>\n</HTML>
CREATED;TZID=America/Chicago:20180228T104529
URL;VALUE=URI:https://leonardwood.armymwr.com/calendar/event
DTSTART;TZID=America/Chicago:20180303T084500
DTEND;TZID=America/Chicago:20180303T094500
SEQUENCE:4
END:VEVENT
BEGIN:VEVENT
UID:sabre-vobject-1cfef308-6881-42e0-b012-fd5da288fc56
DTSTAMP:20260424T173314Z
SUMMARY:Zumba
DESCRIPTION:Open to all fitness levels.\n
X-ALT-DESC:FMTTYPE=text/html:<!DOCTYPE HTML PUBLIC "-//W3C//DTD HTML 3.2//E
 N"><HTML><p>Open to all fitness levels.</p>\n</HTML>
CREATED;TZID=America/Chicago:20180228T104529
URL;VALUE=URI:https://leonardwood.armymwr.com/calendar/event
DTSTART;TZID=America/Chicago:20180304T133000
DTEND;TZID=America/Chicago:20180304T143000
SEQUENCE:5
END:VEVENT
END:VCALENDAR
