BEGIN:VCALENDAR
VERSION:2.0
PRODID:-//Sabre//Sabre VObject 4.5.8//EN
CALSCALE:GREGORIAN
BEGIN:VEVENT
UID:sabre-vobject-a5847834-b1f3-41da-99a0-fa9fecc729a9
DTSTAMP:20260424T064352Z
SUMMARY:Spin
DESCRIPTION:Open to all fitness levels.\n
X-ALT-DESC:FMTTYPE=text/html:<!DOCTYPE HTML PUBLIC "-//W3C//DTD HTML 3.2//E
 N"><HTML><p>Open to all fitness levels.</p>\n</HTML>
CREATED;TZID=America/Chicago:20180228T105118
URL;VALUE=URI:https://leonardwood.armymwr.com/calendar/event
DTSTART;TZID=America/Chicago:20180305T180000
DTEND;TZID=America/Chicago:20180305T190000
SEQUENCE:0
END:VEVENT
BEGIN:VEVENT
UID:sabre-vobject-5f9884d6-3d33-4ff3-a4c2-d55fbb57b5dc
DTSTAMP:20260424T064352Z
SUMMARY:Spin
DESCRIPTION:Open to all fitness levels.\n
X-ALT-DESC:FMTTYPE=text/html:<!DOCTYPE HTML PUBLIC "-//W3C//DTD HTML 3.2//E
 N"><HTML><p>Open to all fitness levels.</p>\n</HTML>
CREATED;TZID=America/Chicago:20180228T105118
URL;VALUE=URI:https://leonardwood.armymwr.com/calendar/event
DTSTART;TZID=America/Chicago:20180306T100000
DTEND;TZID=America/Chicago:20180306T110000
SEQUENCE:1
END:VEVENT
BEGIN:VEVENT
UID:sabre-vobject-d14576e0-9055-4e8a-9b73-75d4d15df178
DTSTAMP:20260424T064352Z
SUMMARY:Spin
DESCRIPTION:Open to all fitness levels.\n
X-ALT-DESC:FMTTYPE=text/html:<!DOCTYPE HTML PUBLIC "-//W3C//DTD HTML 3.2//E
 N"><HTML><p>Open to all fitness levels.</p>\n</HTML>
CREATED;TZID=America/Chicago:20180228T105118
URL;VALUE=URI:https://leonardwood.armymwr.com/calendar/event
DTSTART;TZID=America/Chicago:20180307T104000
DTEND;TZID=America/Chicago:20180307T114000
SEQUENCE:2
END:VEVENT
BEGIN:VEVENT
UID:sabre-vobject-9c536f4d-7b02-4cee-a83a-ef571e1d7cbd
DTSTAMP:20260424T064352Z
SUMMARY:Spin
DESCRIPTION:Open to all fitness levels.\n
X-ALT-DESC:FMTTYPE=text/html:<!DOCTYPE HTML PUBLIC "-//W3C//DTD HTML 3.2//E
 N"><HTML><p>Open to all fitness levels.</p>\n</HTML>
CREATED;TZID=America/Chicago:20180228T105118
URL;VALUE=URI:https://leonardwood.armymwr.com/calendar/event
DTSTART;TZID=America/Chicago:20180301T100000
DTEND;TZID=America/Chicago:20180301T110000
SEQUENCE:3
END:VEVENT
BEGIN:VEVENT
UID:sabre-vobject-5f8e5f12-1128-457b-9a05-a8778711af26
DTSTAMP:20260424T064352Z
SUMMARY:Spin
DESCRIPTION:Open to all fitness levels.\n
X-ALT-DESC:FMTTYPE=text/html:<!DOCTYPE HTML PUBLIC "-//W3C//DTD HTML 3.2//E
 N"><HTML><p>Open to all fitness levels.</p>\n</HTML>
CREATED;TZID=America/Chicago:20180228T105118
URL;VALUE=URI:https://leonardwood.armymwr.com/calendar/event
DTSTART;TZID=America/Chicago:20180302T104000
DTEND;TZID=America/Chicago:20180302T114000
SEQUENCE:4
END:VEVENT
BEGIN:VEVENT
UID:sabre-vobject-7528ed77-bd57-427e-9bee-f27084d7c860
DTSTAMP:20260424T064352Z
SUMMARY:Spin
DESCRIPTION:Open to all fitness levels.\n
X-ALT-DESC:FMTTYPE=text/html:<!DOCTYPE HTML PUBLIC "-//W3C//DTD HTML 3.2//E
 N"><HTML><p>Open to all fitness levels.</p>\n</HTML>
CREATED;TZID=America/Chicago:20180228T105118
URL;VALUE=URI:https://leonardwood.armymwr.com/calendar/event
DTSTART;TZID=America/Chicago:20180306T180000
DTEND;TZID=America/Chicago:20180306T190000
SEQUENCE:5
END:VEVENT
BEGIN:VEVENT
UID:sabre-vobject-f9774e6f-6b6e-46d4-94d5-6b3943b837c1
DTSTAMP:20260424T064352Z
SUMMARY:Spin
DESCRIPTION:Open to all fitness levels.\n
X-ALT-DESC:FMTTYPE=text/html:<!DOCTYPE HTML PUBLIC "-//W3C//DTD HTML 3.2//E
 N"><HTML><p>Open to all fitness levels.</p>\n</HTML>
CREATED;TZID=America/Chicago:20180228T105118
URL;VALUE=URI:https://leonardwood.armymwr.com/calendar/event
DTSTART;TZID=America/Chicago:20180301T180000
DTEND;TZID=America/Chicago:20180301T190000
SEQUENCE:6
END:VEVENT
BEGIN:VEVENT
UID:sabre-vobject-7847c7f8-d5a1-4d77-b873-34917d197c24
DTSTAMP:20260424T064352Z
SUMMARY:Spin
DESCRIPTION:Open to all fitness levels.\n
X-ALT-DESC:FMTTYPE=text/html:<!DOCTYPE HTML PUBLIC "-//W3C//DTD HTML 3.2//E
 N"><HTML><p>Open to all fitness levels.</p>\n</HTML>
CREATED;TZID=America/Chicago:20180228T105118
URL;VALUE=URI:https://leonardwood.armymwr.com/calendar/event
DTSTART;TZID=America/Chicago:20180304T130000
DTEND;TZID=America/Chicago:20180304T140000
SEQUENCE:7
END:VEVENT
END:VCALENDAR
