BEGIN:VCALENDAR
VERSION:2.0
PRODID:-//Sabre//Sabre VObject 4.5.8//EN
CALSCALE:GREGORIAN
BEGIN:VEVENT
UID:sabre-vobject-27f83609-5e4b-43b4-ba8a-983d7f0c894a
DTSTAMP:20260424T035248Z
SUMMARY:Aqua Tone
DESCRIPTION:Open to all fitness levels.\n
X-ALT-DESC:FMTTYPE=text/html:<!DOCTYPE HTML PUBLIC "-//W3C//DTD HTML 3.2//E
 N"><HTML><p>Open to all fitness levels.</p>\n</HTML>
CREATED;TZID=America/Chicago:20180228T111825
URL;VALUE=URI:https://leonardwood.armymwr.com/calendar/event
DTSTART;TZID=America/Chicago:20180302T103000
DTEND;TZID=America/Chicago:20180302T113000
SEQUENCE:0
END:VEVENT
END:VCALENDAR
