BEGIN:VCALENDAR
VERSION:2.0
PRODID:-//Sabre//Sabre VObject 4.5.8//EN
CALSCALE:GREGORIAN
BEGIN:VEVENT
UID:sabre-vobject-3bea1846-6625-4fe4-824c-711ed0362613
DTSTAMP:20260423T145840Z
SUMMARY:Movie on the Patio
DESCRIPTION:Open to the public\, ages 21&nbsp\;and up.\n
X-ALT-DESC:FMTTYPE=text/html:<!DOCTYPE HTML PUBLIC "-//W3C//DTD HTML 3.2//E
 N"><HTML><p>Open to the public\, ages 21&nbsp\;and up.</p>\n</HTML>
CREATED;TZID=America/Chicago:20180320T092306
URL;VALUE=URI:https://leonardwood.armymwr.com/calendar/event
DTSTART;TZID=America/Chicago:20180413T200000
DTEND;TZID=America/Chicago:20180413T210000
SEQUENCE:0
END:VEVENT
END:VCALENDAR
