BEGIN:VCALENDAR
VERSION:2.0
PRODID:-//Sabre//Sabre VObject 4.5.8//EN
CALSCALE:GREGORIAN
BEGIN:VEVENT
UID:sabre-vobject-34c301a2-8c28-455d-a7c7-13da58411550
DTSTAMP:20260421T160949Z
SUMMARY:Combat Yoga
DESCRIPTION:Open to all fitness levels.\n
X-ALT-DESC:FMTTYPE=text/html:<!DOCTYPE HTML PUBLIC "-//W3C//DTD HTML 3.2//E
 N"><HTML><p>Open to all fitness levels.</p>\n</HTML>
CREATED;TZID=America/Chicago:20180321T092148
URL;VALUE=URI:https://leonardwood.armymwr.com/calendar/event
DTSTART;TZID=America/Chicago:20180402T080000
DTEND;TZID=America/Chicago:20180402T090000
SEQUENCE:0
END:VEVENT
BEGIN:VEVENT
UID:sabre-vobject-4a1280aa-8911-44ab-b715-9255e2d306da
DTSTAMP:20260421T160949Z
SUMMARY:Combat Yoga
DESCRIPTION:Open to all fitness levels.\n
X-ALT-DESC:FMTTYPE=text/html:<!DOCTYPE HTML PUBLIC "-//W3C//DTD HTML 3.2//E
 N"><HTML><p>Open to all fitness levels.</p>\n</HTML>
CREATED;TZID=America/Chicago:20180321T092148
URL;VALUE=URI:https://leonardwood.armymwr.com/calendar/event
DTSTART;TZID=America/Chicago:20180404T160000
DTEND;TZID=America/Chicago:20180404T170000
SEQUENCE:1
END:VEVENT
BEGIN:VEVENT
UID:sabre-vobject-e36efcfb-b40b-4f78-a083-6308d2923514
DTSTAMP:20260421T160949Z
SUMMARY:Combat Yoga
DESCRIPTION:Open to all fitness levels.\n
X-ALT-DESC:FMTTYPE=text/html:<!DOCTYPE HTML PUBLIC "-//W3C//DTD HTML 3.2//E
 N"><HTML><p>Open to all fitness levels.</p>\n</HTML>
CREATED;TZID=America/Chicago:20180321T092148
URL;VALUE=URI:https://leonardwood.armymwr.com/calendar/event
DTSTART;TZID=America/Chicago:20180406T160000
DTEND;TZID=America/Chicago:20180406T170000
SEQUENCE:2
END:VEVENT
END:VCALENDAR
