BEGIN:VCALENDAR
VERSION:2.0
PRODID:-//Sabre//Sabre VObject 4.5.8//EN
CALSCALE:GREGORIAN
BEGIN:VEVENT
UID:sabre-vobject-a641ae6c-956c-4355-b457-be3082d2f0e1
DTSTAMP:20260423T150515Z
SUMMARY:5K Fun Run
DESCRIPTION:Open to the public\, all ages.\n
X-ALT-DESC:FMTTYPE=text/html:<!DOCTYPE HTML PUBLIC "-//W3C//DTD HTML 3.2//E
 N"><HTML><p>Open to the public\, all ages.</p>\n</HTML>
CREATED;TZID=America/Chicago:20180321T121720
URL;VALUE=URI:https://leonardwood.armymwr.com/calendar/event
DTSTART;TZID=America/Chicago:20180414T080000
DTEND;TZID=America/Chicago:20180414T090000
SEQUENCE:0
END:VEVENT
END:VCALENDAR
