BEGIN:VCALENDAR
VERSION:2.0
PRODID:-//Sabre//Sabre VObject 4.5.8//EN
CALSCALE:GREGORIAN
BEGIN:VEVENT
UID:sabre-vobject-3ae689b8-02f6-4b17-8c6d-3e3b42d4cefb
DTSTAMP:20260421T110449Z
SUMMARY:Spring Cleaning Yard Sale
DESCRIPTION:Open to the public.\n
X-ALT-DESC:FMTTYPE=text/html:<!DOCTYPE HTML PUBLIC "-//W3C//DTD HTML 3.2//E
 N"><HTML><p>Open to the public.</p>\n</HTML>
CREATED;TZID=America/Chicago:20180418T081252
URL;VALUE=URI:https://leonardwood.armymwr.com/calendar/event
DTSTART;TZID=America/Chicago:20180512T080000
DTEND;TZID=America/Chicago:20180512T120000
SEQUENCE:0
END:VEVENT
END:VCALENDAR
