BEGIN:VCALENDAR
VERSION:2.0
PRODID:-//Sabre//Sabre VObject 4.5.8//EN
CALSCALE:GREGORIAN
BEGIN:VEVENT
UID:sabre-vobject-93c07ba1-0351-4d4e-9275-10bef21b5124
DTSTAMP:20260422T003735Z
SUMMARY:SKIES Dance Recital
DESCRIPTION:Open to the public.\n
X-ALT-DESC:FMTTYPE=text/html:<!DOCTYPE HTML PUBLIC "-//W3C//DTD HTML 3.2//E
 N"><HTML><p>Open to the public.</p>\n</HTML>
CREATED;TZID=America/Chicago:20180326T142934
URL;VALUE=URI:https://leonardwood.armymwr.com/calendar/event
DTSTART;TZID=America/Chicago:20180421T140000
DTEND;TZID=America/Chicago:20180421T160000
SEQUENCE:0
END:VEVENT
END:VCALENDAR
