BEGIN:VCALENDAR
VERSION:2.0
PRODID:-//Sabre//Sabre VObject 4.5.8//EN
CALSCALE:GREGORIAN
BEGIN:VEVENT
UID:sabre-vobject-030bd674-e154-4d1d-9d4d-b356d8fa7335
DTSTAMP:20260421T081942Z
SUMMARY:LIFT
DESCRIPTION:Open to all fitness levels.\n
X-ALT-DESC:FMTTYPE=text/html:<!DOCTYPE HTML PUBLIC "-//W3C//DTD HTML 3.2//E
 N"><HTML><p>Open to all fitness levels.</p>\n</HTML>
CREATED;TZID=America/Chicago:20180430T103536
URL;VALUE=URI:https://leonardwood.armymwr.com/calendar/event
DTSTART;TZID=America/Chicago:20180507T090000
DTEND;TZID=America/Chicago:20180507T100000
SEQUENCE:0
END:VEVENT
BEGIN:VEVENT
UID:sabre-vobject-19217b04-88b6-4964-a13a-c78acbf34669
DTSTAMP:20260421T081942Z
SUMMARY:LIFT
DESCRIPTION:Open to all fitness levels.\n
X-ALT-DESC:FMTTYPE=text/html:<!DOCTYPE HTML PUBLIC "-//W3C//DTD HTML 3.2//E
 N"><HTML><p>Open to all fitness levels.</p>\n</HTML>
CREATED;TZID=America/Chicago:20180430T103536
URL;VALUE=URI:https://leonardwood.armymwr.com/calendar/event
DTSTART;TZID=America/Chicago:20180502T090000
DTEND;TZID=America/Chicago:20180502T100000
SEQUENCE:1
END:VEVENT
BEGIN:VEVENT
UID:sabre-vobject-2a1a90db-a9aa-44f3-8396-06305ac7c4fd
DTSTAMP:20260421T081942Z
SUMMARY:LIFT
DESCRIPTION:Open to all fitness levels.\n
X-ALT-DESC:FMTTYPE=text/html:<!DOCTYPE HTML PUBLIC "-//W3C//DTD HTML 3.2//E
 N"><HTML><p>Open to all fitness levels.</p>\n</HTML>
CREATED;TZID=America/Chicago:20180430T103536
URL;VALUE=URI:https://leonardwood.armymwr.com/calendar/event
DTSTART;TZID=America/Chicago:20180504T090000
DTEND;TZID=America/Chicago:20180504T100000
SEQUENCE:2
END:VEVENT
END:VCALENDAR
