BEGIN:VCALENDAR
VERSION:2.0
PRODID:-//Sabre//Sabre VObject 4.5.8//EN
CALSCALE:GREGORIAN
BEGIN:VEVENT
UID:sabre-vobject-44f60f06-87af-400b-98b9-7a0d47f016b6
DTSTAMP:20260421T033857Z
SUMMARY:5K Fun Run
DESCRIPTION:Open to authorized patrons\, all ages.\n
X-ALT-DESC:FMTTYPE=text/html:<!DOCTYPE HTML PUBLIC "-//W3C//DTD HTML 3.2//E
 N"><HTML><p>Open to authorized patrons\, all ages.</p>\n</HTML>
CREATED;TZID=America/Chicago:20180504T143700
URL;VALUE=URI:https://leonardwood.armymwr.com/calendar/event
DTSTART;TZID=America/Chicago:20180609T080000
DTEND;TZID=America/Chicago:20180609T090000
SEQUENCE:0
END:VEVENT
END:VCALENDAR
