BEGIN:VCALENDAR
VERSION:2.0
PRODID:-//Sabre//Sabre VObject 4.5.8//EN
CALSCALE:GREGORIAN
BEGIN:VEVENT
UID:sabre-vobject-04595dd3-61fa-4339-abe4-3fe22cc8c742
DTSTAMP:20260421T054128Z
SUMMARY:Intramural Softball League
DESCRIPTION:Unit affiliation is necessary.\n
X-ALT-DESC:FMTTYPE=text/html:<!DOCTYPE HTML PUBLIC "-//W3C//DTD HTML 3.2//E
 N"><HTML><p>Unit affiliation is necessary.</p>\n</HTML>
CREATED;TZID=America/Chicago:20180508T075755
URL;VALUE=URI:https://leonardwood.armymwr.com/calendar/event
DTSTART;TZID=America/Chicago:20180605T180000
DTEND;TZID=America/Chicago:20180605T190000
SEQUENCE:0
END:VEVENT
END:VCALENDAR
