BEGIN:VCALENDAR
VERSION:2.0
PRODID:-//Sabre//Sabre VObject 4.5.8//EN
CALSCALE:GREGORIAN
BEGIN:VEVENT
UID:sabre-vobject-57f20b50-a7f0-40a5-91c1-05a3110fccd5
DTSTAMP:20260419T231727Z
SUMMARY:Our Favorite Wizard's Birthday Bash
DESCRIPTION:All ages welcome.\n
X-ALT-DESC:FMTTYPE=text/html:<!DOCTYPE HTML PUBLIC "-//W3C//DTD HTML 3.2//E
 N"><HTML><p>All ages welcome.</p>\n</HTML>
CREATED;TZID=America/Chicago:20180607T140811
URL;VALUE=URI:https://leonardwood.armymwr.com/calendar/event
DTSTART;TZID=America/Chicago:20180729T100000
DTEND;TZID=America/Chicago:20180729T170000
SEQUENCE:0
END:VEVENT
END:VCALENDAR
