BEGIN:VCALENDAR
VERSION:2.0
PRODID:-//Sabre//Sabre VObject 4.5.8//EN
CALSCALE:GREGORIAN
BEGIN:VEVENT
UID:sabre-vobject-7d2b9a75-5392-4197-8062-7c1789fec327
DTSTAMP:20260420T010746Z
SUMMARY:Zumba
DESCRIPTION:Open to all fitness levels.\n
X-ALT-DESC:FMTTYPE=text/html:<!DOCTYPE HTML PUBLIC "-//W3C//DTD HTML 3.2//E
 N"><HTML><p>Open to all fitness levels.</p>\n</HTML>
CREATED;TZID=America/Chicago:20180628T151750
URL;VALUE=URI:https://leonardwood.armymwr.com/calendar/event
DTSTART;TZID=America/Chicago:20180702T104500
DTEND;TZID=America/Chicago:20180702T114500
SEQUENCE:0
END:VEVENT
BEGIN:VEVENT
UID:sabre-vobject-4fc11fb9-e50e-4f5d-a390-0667e3806191
DTSTAMP:20260420T010746Z
SUMMARY:Zumba
DESCRIPTION:Open to all fitness levels.\n
X-ALT-DESC:FMTTYPE=text/html:<!DOCTYPE HTML PUBLIC "-//W3C//DTD HTML 3.2//E
 N"><HTML><p>Open to all fitness levels.</p>\n</HTML>
CREATED;TZID=America/Chicago:20180628T151750
URL;VALUE=URI:https://leonardwood.armymwr.com/calendar/event
DTSTART;TZID=America/Chicago:20180711T114500
DTEND;TZID=America/Chicago:20180711T124500
SEQUENCE:1
END:VEVENT
BEGIN:VEVENT
UID:sabre-vobject-e1027651-f1b8-47a8-8530-e3d0c3493753
DTSTAMP:20260420T010746Z
SUMMARY:Zumba
DESCRIPTION:Open to all fitness levels.\n
X-ALT-DESC:FMTTYPE=text/html:<!DOCTYPE HTML PUBLIC "-//W3C//DTD HTML 3.2//E
 N"><HTML><p>Open to all fitness levels.</p>\n</HTML>
CREATED;TZID=America/Chicago:20180628T151750
URL;VALUE=URI:https://leonardwood.armymwr.com/calendar/event
DTSTART;TZID=America/Chicago:20180706T120000
DTEND;TZID=America/Chicago:20180706T130000
SEQUENCE:2
END:VEVENT
BEGIN:VEVENT
UID:sabre-vobject-a0f454cc-72ce-44b3-986b-7f4d6c2d0bac
DTSTAMP:20260420T010746Z
SUMMARY:Zumba
DESCRIPTION:Open to all fitness levels.\n
X-ALT-DESC:FMTTYPE=text/html:<!DOCTYPE HTML PUBLIC "-//W3C//DTD HTML 3.2//E
 N"><HTML><p>Open to all fitness levels.</p>\n</HTML>
CREATED;TZID=America/Chicago:20180628T151750
URL;VALUE=URI:https://leonardwood.armymwr.com/calendar/event
DTSTART;TZID=America/Chicago:20180707T084500
DTEND;TZID=America/Chicago:20180707T094500
SEQUENCE:3
END:VEVENT
BEGIN:VEVENT
UID:sabre-vobject-bc6cb24b-00f7-4742-94e9-53f6e72c0f7b
DTSTAMP:20260420T010746Z
SUMMARY:Zumba
DESCRIPTION:Open to all fitness levels.\n
X-ALT-DESC:FMTTYPE=text/html:<!DOCTYPE HTML PUBLIC "-//W3C//DTD HTML 3.2//E
 N"><HTML><p>Open to all fitness levels.</p>\n</HTML>
CREATED;TZID=America/Chicago:20180628T151750
URL;VALUE=URI:https://leonardwood.armymwr.com/calendar/event
DTSTART;TZID=America/Chicago:20180701T133000
DTEND;TZID=America/Chicago:20180701T143000
SEQUENCE:4
END:VEVENT
END:VCALENDAR
