BEGIN:VCALENDAR
VERSION:2.0
PRODID:-//Sabre//Sabre VObject 4.5.8//EN
CALSCALE:GREGORIAN
BEGIN:VEVENT
UID:sabre-vobject-c9253858-0756-4d2c-be1f-dde12f81b85d
DTSTAMP:20260419T212902Z
SUMMARY:Les Mills Body Pump 106
DESCRIPTION:
X-ALT-DESC:FMTTYPE=text/html:<!DOCTYPE HTML PUBLIC "-//W3C//DTD HTML 3.2//E
 N"><HTML></HTML>
CREATED;TZID=America/Chicago:20180716T084728
URL;VALUE=URI:https://leonardwood.armymwr.com/calendar/event
DTSTART;TZID=America/Chicago:20180806T093000
DTEND;TZID=America/Chicago:20180806T103000
SEQUENCE:0
END:VEVENT
BEGIN:VEVENT
UID:sabre-vobject-3b6a3e5e-bebe-43e0-8ad4-6ad1ef350c67
DTSTAMP:20260419T212902Z
SUMMARY:Les Mills Body Pump 106
DESCRIPTION:
X-ALT-DESC:FMTTYPE=text/html:<!DOCTYPE HTML PUBLIC "-//W3C//DTD HTML 3.2//E
 N"><HTML></HTML>
CREATED;TZID=America/Chicago:20180716T084728
URL;VALUE=URI:https://leonardwood.armymwr.com/calendar/event
DTSTART;TZID=America/Chicago:20180807T163000
DTEND;TZID=America/Chicago:20180807T173000
SEQUENCE:1
END:VEVENT
BEGIN:VEVENT
UID:sabre-vobject-fad903eb-4b48-4b72-9d1a-0992e35b0b11
DTSTAMP:20260419T212902Z
SUMMARY:Les Mills Body Pump 106
DESCRIPTION:
X-ALT-DESC:FMTTYPE=text/html:<!DOCTYPE HTML PUBLIC "-//W3C//DTD HTML 3.2//E
 N"><HTML></HTML>
CREATED;TZID=America/Chicago:20180716T084728
URL;VALUE=URI:https://leonardwood.armymwr.com/calendar/event
DTSTART;TZID=America/Chicago:20180808T093000
DTEND;TZID=America/Chicago:20180808T103000
SEQUENCE:2
END:VEVENT
BEGIN:VEVENT
UID:sabre-vobject-c21a99f2-0a43-4374-83b6-c182020c70f2
DTSTAMP:20260419T212902Z
SUMMARY:Les Mills Body Pump 106
DESCRIPTION:
X-ALT-DESC:FMTTYPE=text/html:<!DOCTYPE HTML PUBLIC "-//W3C//DTD HTML 3.2//E
 N"><HTML></HTML>
CREATED;TZID=America/Chicago:20180716T084728
URL;VALUE=URI:https://leonardwood.armymwr.com/calendar/event
DTSTART;TZID=America/Chicago:20180809T163000
DTEND;TZID=America/Chicago:20180809T173000
SEQUENCE:3
END:VEVENT
BEGIN:VEVENT
UID:sabre-vobject-69bb869b-b8ab-4962-8f01-6d5010acf9e8
DTSTAMP:20260419T212902Z
SUMMARY:Les Mills Body Pump 106
DESCRIPTION:
X-ALT-DESC:FMTTYPE=text/html:<!DOCTYPE HTML PUBLIC "-//W3C//DTD HTML 3.2//E
 N"><HTML></HTML>
CREATED;TZID=America/Chicago:20180716T084728
URL;VALUE=URI:https://leonardwood.armymwr.com/calendar/event
DTSTART;TZID=America/Chicago:20180810T093000
DTEND;TZID=America/Chicago:20180810T103000
SEQUENCE:4
END:VEVENT
END:VCALENDAR
