BEGIN:VCALENDAR
VERSION:2.0
PRODID:-//Sabre//Sabre VObject 4.5.8//EN
CALSCALE:GREGORIAN
BEGIN:VEVENT
UID:sabre-vobject-8cd24f4f-6200-4194-9a14-e604d5f9d5d3
DTSTAMP:20260419T165837Z
SUMMARY:RIPPED 
DESCRIPTION:Open to all fitness levels.\n
X-ALT-DESC:FMTTYPE=text/html:<!DOCTYPE HTML PUBLIC "-//W3C//DTD HTML 3.2//E
 N"><HTML><p>Open to all fitness levels.</p>\n</HTML>
CREATED;TZID=America/Chicago:20180726T092603
URL;VALUE=URI:https://leonardwood.armymwr.com/calendar/event
DTSTART;TZID=America/Chicago:20180804T100000
DTEND;TZID=America/Chicago:20180804T110000
SEQUENCE:0
END:VEVENT
END:VCALENDAR
