BEGIN:VCALENDAR
VERSION:2.0
PRODID:-//Sabre//Sabre VObject 4.5.8//EN
CALSCALE:GREGORIAN
BEGIN:VEVENT
UID:sabre-vobject-7b0d05d2-9598-409d-9f30-bc4f9ad78e36
DTSTAMP:20260424T173306Z
SUMMARY:Tree Lighting
DESCRIPTION:Open to all ages!\n
X-ALT-DESC:FMTTYPE=text/html:<!DOCTYPE HTML PUBLIC "-//W3C//DTD HTML 3.2//E
 N"><HTML><p>Open to all ages!</p>\n</HTML>
CREATED;TZID=America/Chicago:20191112T153848
URL;VALUE=URI:https://leonardwood.armymwr.com/calendar/event
DTSTART;TZID=America/Chicago:20191203T173000
DTEND;TZID=America/Chicago:20191203T183000
SEQUENCE:0
END:VEVENT
END:VCALENDAR
