BEGIN:VCALENDAR
VERSION:2.0
PRODID:-//Sabre//Sabre VObject 4.5.8//EN
CALSCALE:GREGORIAN
BEGIN:VEVENT
UID:sabre-vobject-210d331e-15e0-4f25-bba1-d7642b5e8d9f
DTSTAMP:20260424T210040Z
SUMMARY:CANCELLED - Easter Egg Hunt
DESCRIPTION:
X-ALT-DESC:FMTTYPE=text/html:<!DOCTYPE HTML PUBLIC "-//W3C//DTD HTML 3.2//E
 N"><HTML></HTML>
CREATED;TZID=America/Chicago:20200324T080939
URL;VALUE=URI:https://leonardwood.armymwr.com/calendar/event
DTSTART;TZID=America/Chicago:20200404T090000
DTEND;TZID=America/Chicago:20200404T100000
SEQUENCE:0
END:VEVENT
END:VCALENDAR
