BEGIN:VCALENDAR
VERSION:2.0
PRODID:-//Sabre//Sabre VObject 4.5.8//EN
CALSCALE:GREGORIAN
BEGIN:VEVENT
UID:sabre-vobject-8e018f7f-442f-42ba-8063-c27845f4aa24
DTSTAMP:20260424T094134Z
SUMMARY:Summer Reading Program
DESCRIPTION:
X-ALT-DESC:FMTTYPE=text/html:<!DOCTYPE HTML PUBLIC "-//W3C//DTD HTML 3.2//E
 N"><HTML></HTML>
CREATED;TZID=America/Chicago:20200723T113233
URL;VALUE=URI:https://leonardwood.armymwr.com/calendar/event
DTSTART;TZID=America/Chicago:20200601T000000
DTEND;TZID=America/Chicago:20200601T235959
SEQUENCE:0
END:VEVENT
END:VCALENDAR
