BEGIN:VCALENDAR
VERSION:2.0
PRODID:-//Sabre//Sabre VObject 4.5.8//EN
CALSCALE:GREGORIAN
BEGIN:VEVENT
UID:sabre-vobject-997f9459-45bf-4003-947d-9940bd031fc4
DTSTAMP:20260424T035353Z
SUMMARY:Special Event Days
DESCRIPTION:
X-ALT-DESC:FMTTYPE=text/html:<!DOCTYPE HTML PUBLIC "-//W3C//DTD HTML 3.2//E
 N"><HTML></HTML>
CREATED;TZID=America/Chicago:20200723T081033
URL;VALUE=URI:https://leonardwood.armymwr.com/calendar/event
DTSTART;TZID=America/Chicago:20200815T070000
DTEND;TZID=America/Chicago:20200815T140000
SEQUENCE:0
END:VEVENT
BEGIN:VEVENT
UID:sabre-vobject-1889154e-bf02-4719-90bc-8f023a44b99b
DTSTAMP:20260424T035353Z
SUMMARY:Special Event Days
DESCRIPTION:
X-ALT-DESC:FMTTYPE=text/html:<!DOCTYPE HTML PUBLIC "-//W3C//DTD HTML 3.2//E
 N"><HTML></HTML>
CREATED;TZID=America/Chicago:20200723T081033
URL;VALUE=URI:https://leonardwood.armymwr.com/calendar/event
DTSTART;TZID=America/Chicago:20200829T070000
DTEND;TZID=America/Chicago:20200829T140000
SEQUENCE:1
END:VEVENT
BEGIN:VEVENT
UID:sabre-vobject-7f29df1c-8ad0-4af9-b25d-c2df4ce13393
DTSTAMP:20260424T035353Z
SUMMARY:Special Event Days
DESCRIPTION:
X-ALT-DESC:FMTTYPE=text/html:<!DOCTYPE HTML PUBLIC "-//W3C//DTD HTML 3.2//E
 N"><HTML></HTML>
CREATED;TZID=America/Chicago:20200723T081033
URL;VALUE=URI:https://leonardwood.armymwr.com/calendar/event
DTSTART;TZID=America/Chicago:20200912T070000
DTEND;TZID=America/Chicago:20200912T140000
SEQUENCE:2
END:VEVENT
END:VCALENDAR
