BEGIN:VCALENDAR
VERSION:2.0
PRODID:-//Sabre//Sabre VObject 4.5.8//EN
CALSCALE:GREGORIAN
BEGIN:VEVENT
UID:sabre-vobject-094ca58d-a525-4921-a2b3-52683dcfdacf
DTSTAMP:20260426T024212Z
SUMMARY:Our Favorite Wizard's Birthday Bash
DESCRIPTION:
X-ALT-DESC:FMTTYPE=text/html:<!DOCTYPE HTML PUBLIC "-//W3C//DTD HTML 3.2//E
 N"><HTML></HTML>
CREATED;TZID=America/Chicago:20200728T125609
URL;VALUE=URI:https://leonardwood.armymwr.com/calendar/event
DTSTART;TZID=America/Chicago:20200727T100000
DTEND;TZID=America/Chicago:20200727T170000
SEQUENCE:0
END:VEVENT
BEGIN:VEVENT
UID:sabre-vobject-46091b18-95d9-44c1-a109-7c633c25a98d
DTSTAMP:20260426T024212Z
SUMMARY:Our Favorite Wizard's Birthday Bash
DESCRIPTION:
X-ALT-DESC:FMTTYPE=text/html:<!DOCTYPE HTML PUBLIC "-//W3C//DTD HTML 3.2//E
 N"><HTML></HTML>
CREATED;TZID=America/Chicago:20200728T125609
URL;VALUE=URI:https://leonardwood.armymwr.com/calendar/event
DTSTART;TZID=America/Chicago:20200731T080000
DTEND;TZID=America/Chicago:20200731T140000
SEQUENCE:1
END:VEVENT
END:VCALENDAR
