BEGIN:VCALENDAR
VERSION:2.0
PRODID:-//Sabre//Sabre VObject 4.5.8//EN
CALSCALE:GREGORIAN
BEGIN:VEVENT
UID:sabre-vobject-51ca0d82-ee5c-44fe-a89e-8f0233a64746
DTSTAMP:20260421T151138Z
SUMMARY:Movie Night
DESCRIPTION:
X-ALT-DESC:FMTTYPE=text/html:<!DOCTYPE HTML PUBLIC "-//W3C//DTD HTML 3.2//E
 N"><HTML></HTML>
CREATED;TZID=America/Chicago:20200810T091403
URL;VALUE=URI:https://leonardwood.armymwr.com/calendar/event
DTSTART;TZID=America/Chicago:20201016T190000
DTEND;TZID=America/Chicago:20201016T200000
SEQUENCE:0
END:VEVENT
END:VCALENDAR
