BEGIN:VCALENDAR
VERSION:2.0
PRODID:-//Sabre//Sabre VObject 4.5.8//EN
CALSCALE:GREGORIAN
BEGIN:VEVENT
UID:sabre-vobject-d1ec2485-5afd-4466-a944-c8a705df72c1
DTSTAMP:20260423T145840Z
SUMMARY:Ha Ha Tonka State Park Hiking Program
DESCRIPTION:
X-ALT-DESC:FMTTYPE=text/html:<!DOCTYPE HTML PUBLIC "-//W3C//DTD HTML 3.2//E
 N"><HTML></HTML>
CREATED;TZID=America/Chicago:20200911T160843
URL;VALUE=URI:https://leonardwood.armymwr.com/calendar/event
DTSTART;TZID=America/Chicago:20200829T100000
DTEND;TZID=America/Chicago:20200829T110000
SEQUENCE:0
END:VEVENT
BEGIN:VEVENT
UID:sabre-vobject-bae94a25-7280-4065-b2fd-5a67222c44c4
DTSTAMP:20260423T145840Z
SUMMARY:Ha Ha Tonka State Park Hiking Program
DESCRIPTION:
X-ALT-DESC:FMTTYPE=text/html:<!DOCTYPE HTML PUBLIC "-//W3C//DTD HTML 3.2//E
 N"><HTML></HTML>
CREATED;TZID=America/Chicago:20200911T160843
URL;VALUE=URI:https://leonardwood.armymwr.com/calendar/event
DTSTART;TZID=America/Chicago:20201003T100000
DTEND;TZID=America/Chicago:20201003T110000
SEQUENCE:1
END:VEVENT
END:VCALENDAR
