BEGIN:VCALENDAR
VERSION:2.0
PRODID:-//Sabre//Sabre VObject 4.5.8//EN
CALSCALE:GREGORIAN
BEGIN:VEVENT
UID:sabre-vobject-f4a42ad6-ede2-49a5-ba9d-743d31e15f05
DTSTAMP:20260421T064005Z
SUMMARY:National Sandwich Day Specials
DESCRIPTION:
X-ALT-DESC:FMTTYPE=text/html:<!DOCTYPE HTML PUBLIC "-//W3C//DTD HTML 3.2//E
 N"><HTML></HTML>
CREATED;TZID=America/Chicago:20201027T140931
URL;VALUE=URI:https://leonardwood.armymwr.com/calendar/event
DTSTART;TZID=America/Chicago:20201103T140000
DTEND;TZID=America/Chicago:20201103T150000
SEQUENCE:0
END:VEVENT
END:VCALENDAR
