BEGIN:VCALENDAR
VERSION:2.0
PRODID:-//Sabre//Sabre VObject 4.5.8//EN
CALSCALE:GREGORIAN
BEGIN:VEVENT
UID:sabre-vobject-4fe54f9a-ffb4-4494-b9fb-8ec6f3146f79
DTSTAMP:20260421T033900Z
SUMMARY:BOSS Appreciation Grams
DESCRIPTION:
X-ALT-DESC:FMTTYPE=text/html:<!DOCTYPE HTML PUBLIC "-//W3C//DTD HTML 3.2//E
 N"><HTML></HTML>
CREATED;TZID=America/Chicago:20201118T121621
URL;VALUE=URI:https://leonardwood.armymwr.com/calendar/event
DTSTART;TZID=America/Chicago:20201123T110000
DTEND;TZID=America/Chicago:20201123T130000
SEQUENCE:0
END:VEVENT
END:VCALENDAR
