BEGIN:VCALENDAR
VERSION:2.0
PRODID:-//Sabre//Sabre VObject 4.5.8//EN
CALSCALE:GREGORIAN
BEGIN:VEVENT
UID:sabre-vobject-12f3034f-2fee-48ed-806e-7da525076fc5
DTSTAMP:20260420T173811Z
SUMMARY:Trees for Troops
DESCRIPTION:
X-ALT-DESC:FMTTYPE=text/html:<!DOCTYPE HTML PUBLIC "-//W3C//DTD HTML 3.2//E
 N"><HTML></HTML>
CREATED;TZID=America/Chicago:20201210T083748
URL;VALUE=URI:https://leonardwood.armymwr.com/calendar/event
DTSTART;TZID=America/Chicago:20201210T100000
DTEND;TZID=America/Chicago:20201210T110000
SEQUENCE:0
END:VEVENT
BEGIN:VEVENT
UID:sabre-vobject-3dd1bfea-a5da-4131-b050-ee031466db58
DTSTAMP:20260420T173811Z
SUMMARY:Trees for Troops
DESCRIPTION:
X-ALT-DESC:FMTTYPE=text/html:<!DOCTYPE HTML PUBLIC "-//W3C//DTD HTML 3.2//E
 N"><HTML></HTML>
CREATED;TZID=America/Chicago:20201210T083748
URL;VALUE=URI:https://leonardwood.armymwr.com/calendar/event
DTSTART;TZID=America/Chicago:20201211T110000
DTEND;TZID=America/Chicago:20201211T190000
SEQUENCE:1
END:VEVENT
END:VCALENDAR
