BEGIN:VCALENDAR
VERSION:2.0
PRODID:-//Sabre//Sabre VObject 4.5.8//EN
CALSCALE:GREGORIAN
BEGIN:VEVENT
UID:sabre-vobject-0a86d57e-3569-4e23-a0eb-ba10f7e9d232
DTSTAMP:20260419T162942Z
SUMMARY:Oil Change & Tire Rotation Basic Intro
DESCRIPTION:
X-ALT-DESC:FMTTYPE=text/html:<!DOCTYPE HTML PUBLIC "-//W3C//DTD HTML 3.2//E
 N"><HTML></HTML>
CREATED;TZID=America/Chicago:20210203T082801
URL;VALUE=URI:https://leonardwood.armymwr.com/calendar/event
DTSTART;TZID=America/Chicago:20210219T173000
DTEND;TZID=America/Chicago:20210219T190000
SEQUENCE:0
END:VEVENT
END:VCALENDAR
