BEGIN:VCALENDAR
VERSION:2.0
PRODID:-//Sabre//Sabre VObject 4.5.8//EN
CALSCALE:GREGORIAN
BEGIN:VEVENT
UID:sabre-vobject-3db3ff67-1e92-477e-ad57-93d1817f8f65
DTSTAMP:20260419T162941Z
SUMMARY:Taste of the Arts - Call to Artists
DESCRIPTION:
X-ALT-DESC:FMTTYPE=text/html:<!DOCTYPE HTML PUBLIC "-//W3C//DTD HTML 3.2//E
 N"><HTML></HTML>
CREATED;TZID=America/Chicago:20210212T102901
URL;VALUE=URI:https://leonardwood.armymwr.com/calendar/event
DTSTART;TZID=America/Chicago:20210201T083000
DTEND;TZID=America/Chicago:20210201T093000
SEQUENCE:0
END:VEVENT
END:VCALENDAR
